BEGIN:VCALENDAR
VERSION:2.0
PRODID:-//wp-events-plugin.com//7.2.3.1//EN
TZID:America/Detroit
X-WR-TIMEZONE:America/Detroit
BEGIN:VEVENT
UID:208@milifespan.org
DTSTART;TZID=America/Detroit:20260505T173000
DTEND;TZID=America/Detroit:20260505T210000
DTSTAMP:20260213T172026Z
URL:https://milifespan.org/events/2026-celebration-of-life-dinner-and-auct
 ion/
SUMMARY:2026 Celebration of Life Dinner and Auction
DESCRIPTION:Right to Life - LIFESPAN's\nAnnual Celebration of Life Fundrais
 ing Dinner &amp\; Silent Auction\nTuesday\, May 5\, 2026\nSan Marino Club\
 , Troy\nAuction opens at 5:30 p.m. -  Dinner begins at 6:45 p.m.\n&nbsp\
 ;\n\n\n\nThere is no charge for this event\, but please remember that this
  dinner is our largest fundraiser of the year.\nPoster: 2026 Annual Dinner
  v7 2026.02.13\nFlier &amp\; Form: 2026 Annual Dinner Flier with Form v3 2
 026.02.13\nFor more information:\nRight to Life - LIFESPAN's Oakland/Macom
 b Office - 248-816-1546 - oakmac@rtl-lifespan.org
CATEGORIES:Dinner/Auction,Yearly LIFESPAN Events
LOCATION:San Marino Club\, 1685 E Big Beaver Rd\, Troy\, MI\, 48083\, Unite
 d States
GEO:42.5644043;-83.1139387
X-APPLE-STRUCTURED-LOCATION;VALUE=URI;X-ADDRESS=1685 E Big Beaver Rd\, Troy
 \, MI\, 48083\, United States;X-APPLE-RADIUS=100;X-TITLE=San Marino Club:g
 eo:42.5644043,-83.1139387
END:VEVENT
BEGIN:VTIMEZONE
TZID:America/Detroit
X-LIC-LOCATION:America/Detroit
BEGIN:DAYLIGHT
DTSTART:20260308T030000
TZOFFSETFROM:-0500
TZOFFSETTO:-0400
TZNAME:EDT
END:DAYLIGHT
END:VTIMEZONE
END:VCALENDAR