BEGIN:VCALENDAR
VERSION:2.0
PRODID:-//wp-events-plugin.com//7.2.3.1//EN
TZID:America/Detroit
X-WR-TIMEZONE:America/Detroit
BEGIN:VEVENT
UID:210@milifespan.org
DTSTART;TZID=America/Detroit:20260505T173000
DTEND;TZID=America/Detroit:20260505T210000
DTSTAMP:20260225T151552Z
URL:https://milifespan.org/events/2026-auction-gift-card-tree-raffle/
SUMMARY:2026 Auction & Gift Card Tree Raffle
DESCRIPTION:Right to Life - LIFESPAN's\nSilent Auction and $500 Gift Card T
 ree Raffle\nat our Annual "Celebration of Life" Dinner\nDate: Tuesday\, Ma
 y 5\, 2026\nTime: Silent Auction &amp\; Tin Can Raffle begins at 5:30 pm 
 and winners will be drawn/announced at the end of our Annual Dinner\nLocat
 ion: San Marino Club\, 1685 E. Big Beaver\, Troy\, MI 48083\nAUCTION ITEM
 S NEEDED!!\n\nEvery year at our Celebration of Life Dinner in May\, we h
 ave a wonderful variety of items for the Silent Auction and Tin Can Drawin
 g. We are looking for items that will bring in large auction bids\, such a
 s:\n\n 	Accommodations at tourist destinations\n 	Restaurant Gift Cards (R
 ed Lobster\, Outback\, etc.)\n 	Sporting Event Tickets\n 	Specialty/Depart
 ment Store Gift Cards\n 	Golf Packages\n 	Family-Friendly places to visit\
 n 	Movie Packages\n\nMonetary donations will be put to good use\; donate a
 ny amount and an auction item will be created in your name. Please go to 
 miLIFESPAN.org/donate to donate online or call the Main Office at 734.524.
 0162 for more information.
CATEGORIES:Dinner/Auction
LOCATION:San Marino Club\, 1685 E. Big Beaver\, Troy\, MI\, 48083\, United 
 States
X-APPLE-STRUCTURED-LOCATION;VALUE=URI;X-ADDRESS=1685 E. Big Beaver\, Troy\,
  MI\, 48083\, United States;X-APPLE-RADIUS=100;X-TITLE=San Marino Club:geo
 :0,0
END:VEVENT
BEGIN:VTIMEZONE
TZID:America/Detroit
X-LIC-LOCATION:America/Detroit
BEGIN:DAYLIGHT
DTSTART:20260308T030000
TZOFFSETFROM:-0500
TZOFFSETTO:-0400
TZNAME:EDT
END:DAYLIGHT
END:VTIMEZONE
END:VCALENDAR