BEGIN:VCALENDAR
VERSION:2.0
PRODID:-//wp-events-plugin.com//7.2.3.1//EN
TZID:America/Detroit
X-WR-TIMEZONE:America/Detroit
BEGIN:VEVENT
UID:207@milifespan.org
DTSTART;TZID=America/Detroit:20260308T000000
DTEND;TZID=America/Detroit:20260308T000000
DTSTAMP:20260220T162247Z
URL:https://milifespan.org/events/2026-37th-annual-lifespan-baby-shower/
SUMMARY:2026 37th Annual LIFESPAN Baby Shower
DESCRIPTION:\n\nRight to Life – LIFESPAN’s\n\n37th Annual Baby Shower\
 n\nSunday\, March 8\, 2026* (*unless different date noted)\n\nto benefit 
 local Pregnancy Help Centers\n\n\n\nIn alphabetical order by City:\nAuburn
  Hills Christian Center\, Auburn Hills\, 2592 E. Walton Blvd. *March 1-8\n
 \nSacred Heart of the Hills Church\, Auburn Hills\, 3400 Adams Rd. *Weeken
 ds from May 2 - May 10\n\nOur Lady\, Queen of Martyrs Catholic Church\, Be
 verly Hills\, 32340 Pierce St.\n\nSt. Hugo of the Hills Catholic Church\, 
 Bloomfield Hills\, 2215 Opdyke Rd.\n\nSt. John Neumann Catholic Church\, C
 anton\, 44800 Warren Rd. *March 14 - 29\n\nSt. Daniel &amp\; St. Anne Cath
 olic Church\, Clarkston\, 7010 Valley Park Dr.  *Five Weeks of Lenten Giv
 ing\n\nGuardian Angels Catholic Church\, Clawson\, 581 E. 14 Mile Road\n\n
 St. Alphonsus-St. Clement Catholic Church\, Dearborn\, 13540 Gould\n\nSt. 
 Anselm Catholic Church\, Dearborn Heights\, 17650 W. Outer Drive\n\nSt. Sa
 bina Catholic Church\, Dearborn Heights\, 25555 Ann Arbor Trail  *Before 
 all Masses on March 7-8\n\nSt. Fabian Catholic Church\, Farmington\, 32200
  W. 12 Mile Rd.\n\nSt. Owen Catholic Church\, Bloomfield Hills\, 2215 Fran
 klin Rd.  *Final Collection on March\n\nSt. Thomas the Apostle Catholic C
 hurch\, Garden City\, 31530 Beechwood *March Collection\n\nSt. Joseph Cat
 holic Church\, Lake Orion\, 715 N. Lapeer Rd.\n\nFour Winds Church\, Livo
 nia\, 31840 W. 7 Mile *Sundays March 1st &amp\; 8th\n\nSt. Colette Cathol
 ic Church\, Livonia\, 17600 Newburgh Rd.\n\nSt. Edith Catholic Church\, L
 ivonia\, 15089 Newburgh Rd.\n\nSt. Genevieve-St. Maurice Catholic Church\
 , Livonia\, 29015 Jamison *Sunday\, March 2nd at 7pm (Traditional Shower) 
 &amp\; March 7 - 8 (Drop Off only)\n\nSt. Mary\, Our Lady of the Snows Cat
 holic Church\, Milford\, 1955 E. Commerce  *Month of May\n\nOur Lady of V
 ictory Catholic Church\, Northville\, 770 Thayer  *During Lenten Collecti
 on\n\nOur Lady of Refuge Catholic Church\, Orchard Lake Village\, 3750 Com
 merce Rd.  *Lenten Collection\n\nOur Lady of Good Counsel Catholic Church
 \, Plymouth\, 47650 N. Territorial  *Weekends from February 28 - March 8
 \n\nSt. Kenneth Catholic Church\, Plymouth\, 14951 Haggerty Rd.  *Weeken
 ds from March 14 - March 29\n\nOur Lady of Loretto Church\, Redford\, 171
 16 Olympia *Weekends from February 28 - March 8\n\nSt. Mary Catholic Churc
 h\, Royal Oak\, 730 S. Lafayette\n\nFamily Victory Fellowship\, Southfield
 \, 19421 W. Ten Mile Rd.\n\nSs. Cyril &amp\; Methodius Catholic Church\, S
 terling Heights\, 41233 Ryan Rd.  *March \n\nSt. Elizabeth Ann Seton Cat
 holic Church\, Troy\, 280 E. Square Lake Rd. *April 18-19\n\nSt. Thomas Mo
 re Catholic Church\, Troy\, 4580 Adams Rd. *April 11-12\n\nSt. William Cat
 holic Church\, Walled Lake\, 531 Common  *Weekends from February 7 - Febr
 uary 15\n\nSt. Josaphat Ukrainian Catholic Church\, Warren\, 26440 Ryan Rd
 .\n\nSt. Richard Catholic Church\, Westland\, 35637 Cherry Hill\n\nSt. Pat
 rick Catholic Church\, White Lake\, 9086 Hutchins Rd. *March 8\, after 8 &
 amp\; 10 am Masses\n\n\n\nSee the most recent flier - 2026 Baby Shower Mai
 n Flier v18 2026.02.20 -  for a church near you! (as of 2/20/26)\n\nMore 
 locations are added almost daily!!! Keep coming back for updates!\n\n\n\nB
 ring new baby items. Ideas include:\n\n 	sleepers\n 	onesies\n 	socks\n 	r
 eceiving blankets\n 	crib sheets\n 	diapers (size 1 - 4)\n 	baby wipes\n 	
 wash cloths\n 	towels\n 	pacifiers\n 	bottles\n 	bibs\n 	personal hygiene 
 items for baby\n 	gift cards (Target\, Meijer\, Babies R Us\, Walmart\, et
 c.)\n 	cash donations\n\nFor more information\, call Chris at the Main Off
 ice: 734-524-0162.
CATEGORIES:Yearly LIFESPAN Events
END:VEVENT
BEGIN:VTIMEZONE
TZID:America/Detroit
X-LIC-LOCATION:America/Detroit
BEGIN:STANDARD
DTSTART:20251102T010000
TZOFFSETFROM:-0400
TZOFFSETTO:-0500
TZNAME:EST
END:STANDARD
END:VTIMEZONE
END:VCALENDAR