BEGIN:VCALENDAR
VERSION:2.0
PRODID:-//wp-events-plugin.com//7.2.3.1//EN
TZID:America/Detroit
X-WR-TIMEZONE:America/Detroit
BEGIN:VEVENT
UID:39@milifespan.org
DTSTART:20170910T133000Z
DTEND:20170910T153000Z
DTSTAMP:20230714T234417Z
URL:https://milifespan.org/events/2017-walk-for-life/
SUMMARY:2017 CIDER Walk for Life
DESCRIPTION:\n\nWHEN: Sunday\, September 10\, 2017\n\nTIME: 1:30 to 3:30 PM
 \n\nWHERE: Sumac Pointe Pavilion\, Edward Hines Park\, Livonia\n\nThe Walk
  for Life is an easy for people of all ages to get involved by actively de
 monstrating support for the Sanctity of Human Life across the lifespan and
  a desire to make a difference in the lives of women and their babies.\n\n
 It will take less than 90 minutes of your time\, but its effect could lite
 rally last a lifetime! \n\nPut your feet to your pro-life convictions and 
 Walk for Life\; you will directly help LIFESPAN advance its mission to imp
 act and transform people with the love of life from conception until natur
 al death.\n\nStart collecting pledges of support from friends and family N
 OW! See the Pledge Form and Flier below.\n\nWe are a 501(c)3 organization 
 and all donations are tax deductible!\n\nWalk for Life Flier\n\nWalk for L
 ife Pledge Form and FAQs
CATEGORIES:Uncategorized
LOCATION:Sumac Pointe Pavilion - Edward Hines Park\, 39399 Edward N Hines D
 r\, Livonia\, MI\, 48150\, United States
X-APPLE-STRUCTURED-LOCATION;VALUE=URI;X-ADDRESS=39399 Edward N Hines Dr\, L
 ivonia\, MI\, 48150\, United States;X-APPLE-RADIUS=100;X-TITLE=Sumac Point
 e Pavilion - Edward Hines Park:geo:0,0
END:VEVENT
END:VCALENDAR